BEGIN:VCALENDAR
VERSION:2.0
PRODID:-//3nity.com//3nity CMS//EN
BEGIN:VEVENT
SUMMARY:Traditional Service
UID:2027-07-19-1208437@aldersgate.com
SEQUENCE:0
STATUS:CONFIRMED
DTSTART:20270221T090000
DTEND:20270221T100000
DTSTAMP:20161222T120000
LOCATION: Aldersgate United Methodist Church, 9530 Starkey Road, Seminole, FL 33777
DESCRIPTION:
URL:http://aldersgate.com
END:VEVENT
END:VCALENDAR
